BEGIN:VCALENDAR
VERSION:2.0
PRODID:-//Tukios.com/
BEGIN:VEVENT
UID:f6eb1726-d773-4455-8de6-083cf6f144b2@www.ardoinfuneralhomeseunice.com
DTSTAMP:20260422T235234Z
DTSTART:20260425T160000Z
DTEND:20260425T170000Z
SUMMARY:Visitation
DESCRIPTION:
URL:https://www.ardoinfuneralhomeseunice.com/obituaries/rebecca-becca-aucoin
LOCATION: 1301 W Laurel Ave  Eunice LA 70535
GEO:30.4944702;-92.428756
END:VEVENT
END:VCALENDAR