BEGIN:VCALENDAR
VERSION:2.0
PRODID:-//Tukios.com/
BEGIN:VEVENT
UID:a1a07084-8915-4bf0-ba3d-dc9cc2fa132d@www.ardoinfuneralhomeseunice.com
DTSTAMP:20260422T234818Z
DTSTART:20260425T210000Z
DTEND:20260425T220000Z
SUMMARY:Funeral Service
DESCRIPTION:
URL:https://www.ardoinfuneralhomeseunice.com/obituaries/rebecca-becca-aucoin
LOCATION: 1301 W Laurel Ave  Eunice LA 70535
GEO:30.4944702;-92.428756
END:VEVENT
END:VCALENDAR